BEGIN:VCALENDAR
VERSION:2.0
PRODID:-//Tukios.com/
BEGIN:VEVENT
UID:3211d894-42fd-4092-8027-f97e449621d8@www.kurzawafh.com
DTSTAMP:20260420T174959Z
DTSTART:20260423T150000Z
DTEND:20260423T160000Z
SUMMARY:Funeral Service
DESCRIPTION:
URL:https://www.kurzawafh.com/obituaries/lorraine-kost
LOCATION:Sacred Heart Church 531 Washington Avenue  South Amboy NJ 08879
GEO:40.480333;-74.2901233
END:VEVENT
END:VCALENDAR