BEGIN:VCALENDAR
VERSION:2.0
PRODID:-//Tukios.com/
BEGIN:VEVENT
UID:43da3743-7419-46c4-b7ac-2ffc4dd74923@www.kurzawafh.com
DTSTAMP:20260420T175117Z
DTSTART:20260423T133000Z
DTEND:20260423T143000Z
SUMMARY:Visitation
DESCRIPTION:
URL:https://www.kurzawafh.com/obituaries/lorraine-kost
LOCATION:Kurzawa Funeral Home 338 Main St  South Amboy NJ 08879
GEO:40.4826432;-74.2874614
END:VEVENT
END:VCALENDAR