BEGIN:VCALENDAR
VERSION:2.0
PRODID:-//Tukios.com/
BEGIN:VEVENT
UID:df3abc77-72d1-438c-904c-4c6ef635aa57@www.kurzawafh.com
DTSTAMP:20260422T035733Z
DTSTART:20260424T133000Z
DTEND:20260424T143000Z
SUMMARY:Mass
DESCRIPTION:
URL:https://www.kurzawafh.com/obituaries/dolores-bonaguro
LOCATION:St. Bernadette's Church 20 Villanova Road  Parlin NJ 08859
GEO:40.4536627;-74.3027854
END:VEVENT
END:VCALENDAR