BEGIN:VCALENDAR
VERSION:2.0
PRODID:-//Tukios.com/
BEGIN:VEVENT
UID:1c8e3d34-b0d1-4cb9-903e-798edb41dd8e@www.kurzawafh.com
DTSTAMP:20260422T035635Z
DTSTART:20260423T230000Z
DTEND:20260424T010000Z
SUMMARY:Visitation
DESCRIPTION:
URL:https://www.kurzawafh.com/obituaries/dolores-bonaguro
LOCATION:Kurzawa Funeral Home 338 Main St  South Amboy NJ 08879
GEO:40.4826432;-74.2874614
END:VEVENT
END:VCALENDAR