BEGIN:VCALENDAR
VERSION:2.0
PRODID:-//Tukios.com/
BEGIN:VEVENT
UID:cf922809-b9dd-422e-a7ff-ce8864853575@www.kurzawafh.com
DTSTAMP:20260422T035733Z
DTSTART:20260423T180000Z
DTEND:20260423T210000Z
SUMMARY:Visitation
DESCRIPTION:
URL:https://www.kurzawafh.com/obituaries/dolores-bonaguro
LOCATION:Kurzawa Funeral Home 338 Main St  South Amboy NJ 08879
GEO:40.4826432;-74.2874614
END:VEVENT
END:VCALENDAR